BEGIN:VCALENDAR
VERSION:2.0
PRODID:-//Clarehouse, Inc - ECPv6.15.20//NONSGML v1.0//EN
CALSCALE:GREGORIAN
METHOD:PUBLISH
X-ORIGINAL-URL:https://clarehouse.org
X-WR-CALDESC:Events for Clarehouse, Inc
REFRESH-INTERVAL;VALUE=DURATION:PT1H
X-Robots-Tag:noindex
X-PUBLISHED-TTL:PT1H
BEGIN:VTIMEZONE
TZID:America/New_York
BEGIN:DAYLIGHT
TZOFFSETFROM:-0500
TZOFFSETTO:-0400
TZNAME:EDT
DTSTART:20250309T070000
END:DAYLIGHT
BEGIN:STANDARD
TZOFFSETFROM:-0400
TZOFFSETTO:-0500
TZNAME:EST
DTSTART:20251102T060000
END:STANDARD
BEGIN:DAYLIGHT
TZOFFSETFROM:-0500
TZOFFSETTO:-0400
TZNAME:EDT
DTSTART:20260308T070000
END:DAYLIGHT
BEGIN:STANDARD
TZOFFSETFROM:-0400
TZOFFSETTO:-0500
TZNAME:EST
DTSTART:20261101T060000
END:STANDARD
BEGIN:DAYLIGHT
TZOFFSETFROM:-0500
TZOFFSETTO:-0400
TZNAME:EDT
DTSTART:20270314T070000
END:DAYLIGHT
BEGIN:STANDARD
TZOFFSETFROM:-0400
TZOFFSETTO:-0500
TZNAME:EST
DTSTART:20271107T060000
END:STANDARD
END:VTIMEZONE
BEGIN:VEVENT
DTSTART;TZID=America/New_York:20261001T120000
DTEND;TZID=America/New_York:20261001T130000
DTSTAMP:20260421T161942
CREATED:20260305T070040Z
LAST-MODIFIED:20260410T164801Z
UID:554-1790856000-1790859600@clarehouse.org
SUMMARY:Complex Pain Management for Dying People
DESCRIPTION:This advanced session explores complex pain at the end of life through a whole-person lens. Participants learn to assess and manage pain using advanced pharmacologic and non-pharmacologic interventions\, while considering the psychological\, social-emotional\, and spiritual contributors that influence suffering. Real cases and discussion translate concepts into bedside practice. \n$25 per class\n$10 optional CE for nurses \nClarehouse Meeting Room\n7617 S Mingo Rd\, Tulsa \n12:00-1:00 p.m. \nLUNCH PROVIDED \nOther PATH classes:\nApril 23 – ELNEC (End-of-Life Nursing Education Consortium)\nJune 4 – Ethical Psycho-Social Support in End-of-Life Care\nAugust 6 – Spiritual Care in Death and Dying\nOctober 1 – Complex Pain Management for Dying People\nDecember 3 – Complex Non-Pain Symptom Management \nSee the events tab for more information on each event. \nRegister Now
URL:https://clarehouse.org/event/complex-pain-management-for-dying-people/
CATEGORIES:Education
ATTACH;FMTTYPE=image/avif:https://clarehouse.org/wp-content/uploads/2026/01/aV1XUHNYClf9o1Er_pathheader.avif
END:VEVENT
BEGIN:VEVENT
DTSTART;TZID=America/New_York:20261027T173000
DTEND;TZID=America/New_York:20261027T190000
DTSTAMP:20260421T161942
CREATED:20260320T060027Z
LAST-MODIFIED:20260410T162638Z
UID:536-1793122200-1793127600@clarehouse.org
SUMMARY:Mortality Salience
DESCRIPTION:Consider how awareness of our own mortality shapes the way we live\, love and make meaning. This session invites reflection on fear\, avoidance\, and acceptance—and how acknowledging impermanence can enrich daily life. \nComplete 10 of 12 programs to receive a certificate of completion. \nRegister Now\n Series Info
URL:https://clarehouse.org/event/mortality-salience/
CATEGORIES:Education
ATTACH;FMTTYPE=image/avif:https://clarehouse.org/wp-content/uploads/2026/01/aXOo-QIvOtkhB4Pr_header.avif
END:VEVENT
BEGIN:VEVENT
DTSTART;TZID=America/New_York:20261117T173000
DTEND;TZID=America/New_York:20261117T183000
DTSTAMP:20260421T161942
CREATED:20260330T060037Z
LAST-MODIFIED:20260410T162617Z
UID:534-1794936600-1794940200@clarehouse.org
SUMMARY:Tending After
DESCRIPTION:Learn what happens after a death – both practically and emotionally – from immediate next steps to the rituals and actions that help families navigate early grief. This session offers guidance in supporting others and caring for oneself during this tender time. \nComplete 10 of 12 programs to receive a certificate of completion. \nRegister Now\n Series Info
URL:https://clarehouse.org/event/tending-after/
CATEGORIES:Education
ATTACH;FMTTYPE=image/avif:https://clarehouse.org/wp-content/uploads/2026/01/aXOo-QIvOtkhB4Pr_header.avif
END:VEVENT
BEGIN:VEVENT
DTSTART;TZID=America/New_York:20261203T120000
DTEND;TZID=America/New_York:20261203T130000
DTSTAMP:20260421T161942
CREATED:20260405T060023Z
LAST-MODIFIED:20260410T162455Z
UID:548-1796299200-1796302800@clarehouse.org
SUMMARY:Complex Non-Pain Symptom Management
DESCRIPTION:End-of-life care often involves multiple distressing symptoms beyond pain. This module reviews common physical and psychological non-pain symptoms and emphasizes comprehensive assessment and a balanced use of pharmacologic and non-pharmacologic interventions. Through case studies\, participants practice prioritizing comfort\, anticipating symptom trajectories\, and individualizing care based on patient goals. \n$25 per class\n$10 optional CE for nurses \nClarehouse Meeting Room\n7617 S Mingo Rd\, Tulsa \n12:00-1:00 p.m. \nLUNCH PROVIDED \nOther PATH classes:\nApril 23 – ELNEC (End-of-Life Nursing Education Consortium)\nJune 4 – Ethical Psycho-Social Support in End-of-Life Care\nAugust 6 – Spiritual Care in Death and Dying\nOctober 1 – Complex Pain Management for Dying People\nDecember 3 – Complex Non-Pain Symptom Management \nSee the events tab for more information on each event. \nRegister Now\n Series Info
URL:https://clarehouse.org/event/complex-non-pain-symptom-management/
CATEGORIES:Education
ATTACH;FMTTYPE=image/avif:https://clarehouse.org/wp-content/uploads/2026/01/aV1XUHNYClf9o1Er_pathheader.avif
END:VEVENT
BEGIN:VEVENT
DTSTART;TZID=America/New_York:20261215T173000
DTEND;TZID=America/New_York:20261215T183000
DTSTAMP:20260421T161942
CREATED:20260410T060028Z
LAST-MODIFIED:20260410T162356Z
UID:529-1797355800-1797359400@clarehouse.org
SUMMARY:Grief\, Mourning\, Grieving & Bereavement
DESCRIPTION:Explore the wide range of experiences that accompany loss\, including the differences between grief\, mourning\, grieving and bereavement. This session provides compassionate insight into how individuals process loss\, what supports healing and how communities can companion one another. \nComplete 10 of 12 programs to receive a certificate of completion. \nRegister Now\n Series Info
URL:https://clarehouse.org/event/grief-mourning-grieving-bereavement/
CATEGORIES:Education
ATTACH;FMTTYPE=image/avif:https://clarehouse.org/wp-content/uploads/2026/01/aXOo-QIvOtkhB4Pr_header.avif
END:VEVENT
END:VCALENDAR