BEGIN:VCALENDAR
VERSION:2.0
PRODID:-//Clarehouse, Inc - ECPv6.15.20//NONSGML v1.0//EN
CALSCALE:GREGORIAN
METHOD:PUBLISH
X-WR-CALNAME:Clarehouse, Inc
X-ORIGINAL-URL:https://clarehouse.org
X-WR-CALDESC:Events for Clarehouse, Inc
REFRESH-INTERVAL;VALUE=DURATION:PT1H
X-Robots-Tag:noindex
X-PUBLISHED-TTL:PT1H
BEGIN:VTIMEZONE
TZID:America/New_York
BEGIN:DAYLIGHT
TZOFFSETFROM:-0500
TZOFFSETTO:-0400
TZNAME:EDT
DTSTART:20250309T070000
END:DAYLIGHT
BEGIN:STANDARD
TZOFFSETFROM:-0400
TZOFFSETTO:-0500
TZNAME:EST
DTSTART:20251102T060000
END:STANDARD
BEGIN:DAYLIGHT
TZOFFSETFROM:-0500
TZOFFSETTO:-0400
TZNAME:EDT
DTSTART:20260308T070000
END:DAYLIGHT
BEGIN:STANDARD
TZOFFSETFROM:-0400
TZOFFSETTO:-0500
TZNAME:EST
DTSTART:20261101T060000
END:STANDARD
BEGIN:DAYLIGHT
TZOFFSETFROM:-0500
TZOFFSETTO:-0400
TZNAME:EDT
DTSTART:20270314T070000
END:DAYLIGHT
BEGIN:STANDARD
TZOFFSETFROM:-0400
TZOFFSETTO:-0500
TZNAME:EST
DTSTART:20271107T060000
END:STANDARD
END:VTIMEZONE
BEGIN:VEVENT
DTSTART;TZID=America/New_York:20260806T120000
DTEND;TZID=America/New_York:20260806T130000
DTSTAMP:20260421T175400
CREATED:20260224T070028Z
LAST-MODIFIED:20260410T163630Z
UID:610-1786017600-1786021200@clarehouse.org
SUMMARY:Spiritual Care in Death and Dying
DESCRIPTION:As life nears its end\, many people wrestle with questions of fear\, regret\, hope\, meaning\, forgiveness\, and legacy. This module explores the spiritual and existential dimensions of death and dying\, helping participants recognize and respond to such concerns. This module prepares participants to identify spiritual and existential needs and respond in respectful\, supportive ways. Participants practice spiritual assessment\, communication strategies\, and culturally responsive support that honors what matters most and strengthens family support during anticipatory grief. \n$25 per class\n$10 optional CE for nurses \nClarehouse Meeting Room\n7617 S Mingo Rd\, Tulsa \n12:00-1:00 p.m. \nLUNCH PROVIDED \nOther PATH classes:\nApril 23 – ELNEC (End-of-Life Nursing Education Consortium)\nJune 4 – Ethical Psycho-Social Support in End-of-Life Care\nAugust 6 – Spiritual Care in Death and Dying\nOctober 1 – Complex Pain Management for Dying People\nDecember 3 – Complex Non-Pain Symptom Management \nSee the events tab for more information on each event. \nRegister Now
URL:https://clarehouse.org/event/spiritual-care-in-death-and-dying/
CATEGORIES:Education
ATTACH;FMTTYPE=image/jpeg:https://clarehouse.org/wp-content/uploads/2026/01/aV1XUHNYClf9o1Er_pathheader-3.jpg
END:VEVENT
BEGIN:VEVENT
DTSTART;TZID=America/New_York:20260825T173000
DTEND;TZID=America/New_York:20260825T190000
DTSTAMP:20260421T175400
CREATED:20260225T070036Z
LAST-MODIFIED:20260410T163643Z
UID:546-1787679000-1787684400@clarehouse.org
SUMMARY:Being With
DESCRIPTION:Explore the power of presence – being fully with someone without needing to fix or change their experience. This session offers guidance on deep listening\, quiet companionship and holding space for another person with compassion. \nComplete 10 of 12 programs to receive a certificate of completion. \nRegister Now\n Series Info
URL:https://clarehouse.org/event/being-with/
CATEGORIES:Education
ATTACH;FMTTYPE=image/avif:https://clarehouse.org/wp-content/uploads/2026/01/aXOo-QIvOtkhB4Pr_header.avif
END:VEVENT
END:VCALENDAR