BEGIN:VCALENDAR
VERSION:2.0
PRODID:-//Clarehouse, Inc - ECPv6.15.20//NONSGML v1.0//EN
CALSCALE:GREGORIAN
METHOD:PUBLISH
X-WR-CALNAME:Clarehouse, Inc
X-ORIGINAL-URL:https://clarehouse.org
X-WR-CALDESC:Events for Clarehouse, Inc
REFRESH-INTERVAL;VALUE=DURATION:PT1H
X-Robots-Tag:noindex
X-PUBLISHED-TTL:PT1H
BEGIN:VTIMEZONE
TZID:America/New_York
BEGIN:DAYLIGHT
TZOFFSETFROM:-0500
TZOFFSETTO:-0400
TZNAME:EDT
DTSTART:20250309T070000
END:DAYLIGHT
BEGIN:STANDARD
TZOFFSETFROM:-0400
TZOFFSETTO:-0500
TZNAME:EST
DTSTART:20251102T060000
END:STANDARD
BEGIN:DAYLIGHT
TZOFFSETFROM:-0500
TZOFFSETTO:-0400
TZNAME:EDT
DTSTART:20260308T070000
END:DAYLIGHT
BEGIN:STANDARD
TZOFFSETFROM:-0400
TZOFFSETTO:-0500
TZNAME:EST
DTSTART:20261101T060000
END:STANDARD
BEGIN:DAYLIGHT
TZOFFSETFROM:-0500
TZOFFSETTO:-0400
TZNAME:EDT
DTSTART:20270314T070000
END:DAYLIGHT
BEGIN:STANDARD
TZOFFSETFROM:-0400
TZOFFSETTO:-0500
TZNAME:EST
DTSTART:20271107T060000
END:STANDARD
END:VTIMEZONE
BEGIN:VEVENT
DTSTART;TZID=America/New_York:20260728T173000
DTEND;TZID=America/New_York:20260728T183000
DTSTAMP:20260421T162201
CREATED:20260220T070013Z
LAST-MODIFIED:20260410T163617Z
UID:550-1785259800-1785263400@clarehouse.org
SUMMARY:Psycho-Social Care
DESCRIPTION:This session delves into the psychological and social needs of people nearing the end of life\, as well as the needs of their families. Participants will learn how to support emotional expression\, reduce isolation and create environments of comfort and connection. \nComplete 10 of 12 programs to receive a certificate of completion. \nRegister Now\n Series Info
URL:https://clarehouse.org/event/psycho-social-care/
CATEGORIES:Education
ATTACH;FMTTYPE=image/avif:https://clarehouse.org/wp-content/uploads/2026/01/aXOo-QIvOtkhB4Pr_header.avif
END:VEVENT
END:VCALENDAR