BEGIN:VCALENDAR
VERSION:2.0
PRODID:-//Clarehouse, Inc - ECPv6.15.20//NONSGML v1.0//EN
CALSCALE:GREGORIAN
METHOD:PUBLISH
X-ORIGINAL-URL:https://clarehouse.org
X-WR-CALDESC:Events for Clarehouse, Inc
REFRESH-INTERVAL;VALUE=DURATION:PT1H
X-Robots-Tag:noindex
X-PUBLISHED-TTL:PT1H
BEGIN:VTIMEZONE
TZID:America/New_York
BEGIN:DAYLIGHT
TZOFFSETFROM:-0500
TZOFFSETTO:-0400
TZNAME:EDT
DTSTART:20250309T070000
END:DAYLIGHT
BEGIN:STANDARD
TZOFFSETFROM:-0400
TZOFFSETTO:-0500
TZNAME:EST
DTSTART:20251102T060000
END:STANDARD
BEGIN:DAYLIGHT
TZOFFSETFROM:-0500
TZOFFSETTO:-0400
TZNAME:EDT
DTSTART:20260308T070000
END:DAYLIGHT
BEGIN:STANDARD
TZOFFSETFROM:-0400
TZOFFSETTO:-0500
TZNAME:EST
DTSTART:20261101T060000
END:STANDARD
BEGIN:DAYLIGHT
TZOFFSETFROM:-0500
TZOFFSETTO:-0400
TZNAME:EDT
DTSTART:20270314T070000
END:DAYLIGHT
BEGIN:STANDARD
TZOFFSETFROM:-0400
TZOFFSETTO:-0500
TZNAME:EST
DTSTART:20271107T060000
END:STANDARD
END:VTIMEZONE
BEGIN:VEVENT
DTSTART;TZID=America/New_York:20260604T120000
DTEND;TZID=America/New_York:20260604T130000
DTSTAMP:20260421T143045
CREATED:20260127T194541Z
LAST-MODIFIED:20260410T164255Z
UID:540-1780574400-1780578000@clarehouse.org
SUMMARY:Ethical Psycho-Social Support in End-of-Life Care
DESCRIPTION:This module strengthens participants’ ability to provide compassionate\, culturally responsive psychosocial support while navigating the ethical complexities of serious illness and dying. Grounded in core ethical principles—autonomy\, beneficence\, non-maleficence\, justice—participants learn to communicate with honesty\, protect trust\, honor patient values and choices\, and advocate for equitable\, comfort-focused care for both patients and families. \n$25 per class\n$10 optional CE for nurses \nClarehouse Meeting Room\n7617 S Mingo Rd\, Tulsa \n12:00-1:00 p.m. \nLUNCH PROVIDED \nOther PATH classes:\nApril 23 – ELNEC (End-of-Life Nursing Education Consortium)\nJune 4 – Ethical Psycho-Social Support in End-of-Life Care\nAugust 6 – Spiritual Care in Death and Dying\nOctober 1 – Complex Pain Management for Dying People\nDecember 3 – Complex Non-Pain Symptom Management \nSee the events tab for more information on each event. \nRegister Now
URL:https://clarehouse.org/event/ethical-psycho-social-support-in-end-of-life-care/
CATEGORIES:Education
ATTACH;FMTTYPE=image/avif:https://clarehouse.org/wp-content/uploads/2026/01/aV1XUHNYClf9o1Er_pathheader.avif
END:VEVENT
BEGIN:VEVENT
DTSTART;TZID=America/New_York:20260630T173000
DTEND;TZID=America/New_York:20260630T183000
DTSTAMP:20260421T143045
CREATED:20260127T210015Z
LAST-MODIFIED:20260325T193922Z
UID:552-1782840600-1782844200@clarehouse.org
SUMMARY:Physical Care of People Who Are Dying
DESCRIPTION:Learn foundational skills for providing gentle\, safe and effective physical care to someone at the end of life. This session covers comfort measures\, positioning\, nutrition and hydration considerations\, and how to respond to common changes in the body. \nComplete 10 of 12 programs to receive a certificate of completion. \nRegister Now\n Series Info
URL:https://clarehouse.org/event/physical-care-of-people-who-are-dying/
CATEGORIES:Education
ATTACH;FMTTYPE=image/avif:https://clarehouse.org/wp-content/uploads/2026/01/aXOo-QIvOtkhB4Pr_header.avif
END:VEVENT
END:VCALENDAR